Package: simpIntLists Version: 1.42.0 Command: /home/biocbuild/bbs-3.20-bioc/R/bin/R CMD build --keep-empty-dirs --no-resave-data simpIntLists StartedAt: 2025-04-01 11:36:18 -0400 (Tue, 01 Apr 2025) EndedAt: 2025-04-01 11:36:27 -0400 (Tue, 01 Apr 2025) EllapsedTime: 8.6 seconds RetCode: 0 Status: OK PackageFile: simpIntLists_1.42.0.tar.gz PackageFileSize: 4.366 MiB