Package: scpdata Version: 1.14.0 Command: /home/biocbuild/bbs-3.20-bioc/R/bin/R CMD INSTALL scpdata StartedAt: 2025-04-01 11:00:20 -0400 (Tue, 01 Apr 2025) EndedAt: 2025-04-01 11:00:51 -0400 (Tue, 01 Apr 2025) EllapsedTime: 31.7 seconds RetCode: 0 Status: OK