Package: scRNAseq Version: 2.20.0 Command: /home/biocbuild/bbs-3.20-bioc/R/bin/R CMD INSTALL scRNAseq StartedAt: 2025-04-01 11:01:44 -0400 (Tue, 01 Apr 2025) EndedAt: 2025-04-01 11:02:26 -0400 (Tue, 01 Apr 2025) EllapsedTime: 42.1 seconds RetCode: 0 Status: OK