Package: scATAC.Explorer Version: 1.12.1 Command: /home/biocbuild/bbs-3.20-bioc/R/bin/R CMD INSTALL scATAC.Explorer StartedAt: 2025-04-01 11:03:46 -0400 (Tue, 01 Apr 2025) EndedAt: 2025-04-01 11:04:11 -0400 (Tue, 01 Apr 2025) EllapsedTime: 25.0 seconds RetCode: 0 Status: OK