Package: scATAC.Explorer Version: 1.12.1 Command: /home/biocbuild/bbs-3.20-bioc/R/bin/R CMD check --install=check:scATAC.Explorer.install-out.txt --library=/home/biocbuild/bbs-3.20-bioc/R/site-library --timings scATAC.Explorer_1.12.1.tar.gz StartedAt: 2025-04-01 12:34:31 -0400 (Tue, 01 Apr 2025) EndedAt: 2025-04-01 13:05:56 -0400 (Tue, 01 Apr 2025) EllapsedTime: 1885.0 seconds RetCode: 0 Status: OK CheckDir: scATAC.Explorer.Rcheck Warnings: 0