Package: scATAC.Explorer Version: 1.12.1 Command: /home/biocbuild/bbs-3.20-bioc/R/bin/R CMD build --keep-empty-dirs --no-resave-data scATAC.Explorer StartedAt: 2025-04-01 11:35:09 -0400 (Tue, 01 Apr 2025) EndedAt: 2025-04-01 11:35:44 -0400 (Tue, 01 Apr 2025) EllapsedTime: 35.6 seconds RetCode: 0 Status: OK PackageFile: scATAC.Explorer_1.12.1.tar.gz PackageFileSize: 247.7 KiB