Package: pepDat Version: 1.26.0 Command: /home/biocbuild/bbs-3.20-bioc/R/bin/R CMD check --install=check:pepDat.install-out.txt --library=/home/biocbuild/bbs-3.20-bioc/R/site-library --timings pepDat_1.26.0.tar.gz StartedAt: 2025-04-01 12:25:40 -0400 (Tue, 01 Apr 2025) EndedAt: 2025-04-01 12:26:43 -0400 (Tue, 01 Apr 2025) EllapsedTime: 62.9 seconds RetCode: 0 Status: OK CheckDir: pepDat.Rcheck Warnings: 0