Package: orthosData Version: 1.4.0 Command: /home/biocbuild/bbs-3.20-bioc/R/bin/R CMD INSTALL orthosData StartedAt: 2025-04-01 10:59:07 -0400 (Tue, 01 Apr 2025) EndedAt: 2025-04-01 10:59:33 -0400 (Tue, 01 Apr 2025) EllapsedTime: 25.8 seconds RetCode: 0 Status: OK