Package: multiWGCNAdata Version: 1.4.0 Command: /home/biocbuild/bbs-3.20-bioc/R/bin/R CMD check --install=check:multiWGCNAdata.install-out.txt --library=/home/biocbuild/bbs-3.20-bioc/R/site-library --timings multiWGCNAdata_1.4.0.tar.gz StartedAt: 2025-04-01 12:21:54 -0400 (Tue, 01 Apr 2025) EndedAt: 2025-04-01 12:22:48 -0400 (Tue, 01 Apr 2025) EllapsedTime: 54.3 seconds RetCode: 0 Status: OK CheckDir: multiWGCNAdata.Rcheck Warnings: 0