Package: multiWGCNAdata Version: 1.4.0 Command: /home/biocbuild/bbs-3.20-bioc/R/bin/R CMD build --keep-empty-dirs --no-resave-data multiWGCNAdata StartedAt: 2025-04-01 11:28:13 -0400 (Tue, 01 Apr 2025) EndedAt: 2025-04-01 11:28:36 -0400 (Tue, 01 Apr 2025) EllapsedTime: 23.3 seconds RetCode: 0 Status: OK PackageFile: multiWGCNAdata_1.4.0.tar.gz PackageFileSize: 221.1 KiB