Package: msPurityData Version: 1.34.0 Command: /home/biocbuild/bbs-3.20-bioc/R/bin/R CMD check --install=check:msPurityData.install-out.txt --library=/home/biocbuild/bbs-3.20-bioc/R/site-library --timings msPurityData_1.34.0.tar.gz StartedAt: 2025-04-01 12:20:57 -0400 (Tue, 01 Apr 2025) EndedAt: 2025-04-01 12:21:27 -0400 (Tue, 01 Apr 2025) EllapsedTime: 29.9 seconds RetCode: 0 Status: OK CheckDir: msPurityData.Rcheck Warnings: 0