Package: msPurityData Version: 1.34.0 Command: /home/biocbuild/bbs-3.20-bioc/R/bin/R CMD build --keep-empty-dirs --no-resave-data msPurityData StartedAt: 2025-04-01 11:27:42 -0400 (Tue, 01 Apr 2025) EndedAt: 2025-04-01 11:30:10 -0400 (Tue, 01 Apr 2025) EllapsedTime: 148.1 seconds RetCode: 0 Status: OK PackageFile: msPurityData_1.34.0.tar.gz PackageFileSize: 233.5 MiB