Package: minionSummaryData Version: 1.36.0 Command: /home/biocbuild/bbs-3.20-bioc/R/bin/R CMD build --keep-empty-dirs --no-resave-data minionSummaryData StartedAt: 2025-04-01 11:26:55 -0400 (Tue, 01 Apr 2025) EndedAt: 2025-04-01 11:27:07 -0400 (Tue, 01 Apr 2025) EllapsedTime: 11.7 seconds RetCode: 0 Status: OK PackageFile: minionSummaryData_1.36.0.tar.gz PackageFileSize: 134.7 MiB