Package: minfiData Version: 0.52.0 Command: /home/biocbuild/bbs-3.20-bioc/R/bin/R CMD INSTALL minfiData StartedAt: 2025-04-01 11:02:14 -0400 (Tue, 01 Apr 2025) EndedAt: 2025-04-01 11:02:54 -0400 (Tue, 01 Apr 2025) EllapsedTime: 39.6 seconds RetCode: 0 Status: OK