Package: minfiData Version: 0.52.0 Command: /home/biocbuild/bbs-3.20-bioc/R/bin/R CMD check --install=check:minfiData.install-out.txt --library=/home/biocbuild/bbs-3.20-bioc/R/site-library --timings minfiData_0.52.0.tar.gz StartedAt: 2025-04-01 12:17:23 -0400 (Tue, 01 Apr 2025) EndedAt: 2025-04-01 12:20:33 -0400 (Tue, 01 Apr 2025) EllapsedTime: 190.6 seconds RetCode: 0 Status: WARNINGS CheckDir: minfiData.Rcheck Warnings: 1