Package: gpaExample Version: 1.18.0 Command: /home/biocbuild/bbs-3.20-bioc/R/bin/R CMD INSTALL gpaExample StartedAt: 2025-04-01 10:55:49 -0400 (Tue, 01 Apr 2025) EndedAt: 2025-04-01 10:55:50 -0400 (Tue, 01 Apr 2025) EllapsedTime: 1.6 seconds RetCode: 0 Status: OK