Package: gpaExample Version: 1.18.0 Command: /home/biocbuild/bbs-3.20-bioc/R/bin/R CMD check --install=check:gpaExample.install-out.txt --library=/home/biocbuild/bbs-3.20-bioc/R/site-library --timings gpaExample_1.18.0.tar.gz StartedAt: 2025-04-01 12:04:25 -0400 (Tue, 01 Apr 2025) EndedAt: 2025-04-01 12:04:40 -0400 (Tue, 01 Apr 2025) EllapsedTime: 14.6 seconds RetCode: 0 Status: OK CheckDir: gpaExample.Rcheck Warnings: 0