Package: genomationData Version: 1.38.0 Command: /home/biocbuild/bbs-3.20-bioc/R/bin/R CMD INSTALL genomationData StartedAt: 2025-04-01 10:55:50 -0400 (Tue, 01 Apr 2025) EndedAt: 2025-04-01 10:55:55 -0400 (Tue, 01 Apr 2025) EllapsedTime: 5.0 seconds RetCode: 0 Status: OK