Package: genomationData Version: 1.38.0 Command: /home/biocbuild/bbs-3.20-bioc/R/bin/R CMD build --keep-empty-dirs --no-resave-data genomationData StartedAt: 2025-04-01 11:17:38 -0400 (Tue, 01 Apr 2025) EndedAt: 2025-04-01 11:17:47 -0400 (Tue, 01 Apr 2025) EllapsedTime: 9.0 seconds RetCode: 0 Status: OK PackageFile: genomationData_1.38.0.tar.gz PackageFileSize: 66.49 MiB