Package: geneLenDataBase Version: 1.42.0 Command: /home/biocbuild/bbs-3.20-bioc/R/bin/R CMD INSTALL geneLenDataBase StartedAt: 2025-04-01 11:02:02 -0400 (Tue, 01 Apr 2025) EndedAt: 2025-04-01 11:03:23 -0400 (Tue, 01 Apr 2025) EllapsedTime: 81.4 seconds RetCode: 0 Status: OK