Package: geneLenDataBase Version: 1.42.0 Command: /home/biocbuild/bbs-3.20-bioc/R/bin/R CMD build --keep-empty-dirs --no-resave-data geneLenDataBase StartedAt: 2025-04-01 11:17:36 -0400 (Tue, 01 Apr 2025) EndedAt: 2025-04-01 11:18:33 -0400 (Tue, 01 Apr 2025) EllapsedTime: 57.2 seconds RetCode: 0 Status: OK PackageFile: geneLenDataBase_1.42.0.tar.gz PackageFileSize: 95.79 MiB