Package: gcspikelite Version: 1.44.0 Command: /home/biocbuild/bbs-3.20-bioc/R/bin/R CMD build --keep-empty-dirs --no-resave-data gcspikelite StartedAt: 2025-04-01 11:17:15 -0400 (Tue, 01 Apr 2025) EndedAt: 2025-04-01 11:18:08 -0400 (Tue, 01 Apr 2025) EllapsedTime: 52.7 seconds RetCode: 0 Status: OK PackageFile: gcspikelite_1.44.0.tar.gz PackageFileSize: 21.63 MiB