Package: ewceData Version: 1.14.0 Command: /home/biocbuild/bbs-3.20-bioc/R/bin/R CMD build --keep-empty-dirs --no-resave-data ewceData StartedAt: 2025-04-01 11:14:58 -0400 (Tue, 01 Apr 2025) EndedAt: 2025-04-01 11:15:46 -0400 (Tue, 01 Apr 2025) EllapsedTime: 47.5 seconds RetCode: 1 Status: ERROR PackageFile: None PackageFileSize: NA