Package: epimutacionsData Version: 1.10.0 Command: /home/biocbuild/bbs-3.20-bioc/R/bin/R CMD build --keep-empty-dirs --no-resave-data epimutacionsData StartedAt: 2025-04-01 11:14:27 -0400 (Tue, 01 Apr 2025) EndedAt: 2025-04-01 11:15:07 -0400 (Tue, 01 Apr 2025) EllapsedTime: 39.8 seconds RetCode: 0 Status: OK PackageFile: epimutacionsData_1.10.0.tar.gz PackageFileSize: 57.04 MiB