Package: diggitdata Version: 1.38.0 Command: /home/biocbuild/bbs-3.20-bioc/R/bin/R CMD check --install=check:diggitdata.install-out.txt --library=/home/biocbuild/bbs-3.20-bioc/R/site-library --timings diggitdata_1.38.0.tar.gz StartedAt: 2025-04-01 11:53:58 -0400 (Tue, 01 Apr 2025) EndedAt: 2025-04-01 11:54:55 -0400 (Tue, 01 Apr 2025) EllapsedTime: 56.6 seconds RetCode: 0 Status: OK CheckDir: diggitdata.Rcheck Warnings: 0