Package: diggitdata Version: 1.38.0 Command: /home/biocbuild/bbs-3.20-bioc/R/bin/R CMD build --keep-empty-dirs --no-resave-data diggitdata StartedAt: 2025-04-01 11:13:07 -0400 (Tue, 01 Apr 2025) EndedAt: 2025-04-01 11:13:25 -0400 (Tue, 01 Apr 2025) EllapsedTime: 17.9 seconds RetCode: 0 Status: OK PackageFile: diggitdata_1.38.0.tar.gz PackageFileSize: 47.39 MiB