Package: curatedTBData Version: 2.2.0 Command: /home/biocbuild/bbs-3.20-bioc/R/bin/R CMD INSTALL curatedTBData StartedAt: 2025-04-01 10:59:58 -0400 (Tue, 01 Apr 2025) EndedAt: 2025-04-01 11:00:26 -0400 (Tue, 01 Apr 2025) EllapsedTime: 27.7 seconds RetCode: 0 Status: OK