Package: curatedCRCData Version: 2.38.0 Command: /home/biocbuild/bbs-3.20-bioc/R/bin/R CMD INSTALL curatedCRCData StartedAt: 2025-04-01 10:56:19 -0400 (Tue, 01 Apr 2025) EndedAt: 2025-04-01 10:56:21 -0400 (Tue, 01 Apr 2025) EllapsedTime: 1.7 seconds RetCode: 0 Status: OK