Package: curatedCRCData Version: 2.38.0 Command: /home/biocbuild/bbs-3.20-bioc/R/bin/R CMD check --install=check:curatedCRCData.install-out.txt --library=/home/biocbuild/bbs-3.20-bioc/R/site-library --timings curatedCRCData_2.38.0.tar.gz StartedAt: 2025-04-01 11:50:57 -0400 (Tue, 01 Apr 2025) EndedAt: 2025-04-01 11:53:08 -0400 (Tue, 01 Apr 2025) EllapsedTime: 130.4 seconds RetCode: 1 Status: ERROR CheckDir: curatedCRCData.Rcheck Warnings: NA