Package: curatedCRCData Version: 2.38.0 Command: /home/biocbuild/bbs-3.20-bioc/R/bin/R CMD build --keep-empty-dirs --no-resave-data curatedCRCData StartedAt: 2025-04-01 11:10:27 -0400 (Tue, 01 Apr 2025) EndedAt: 2025-04-01 11:11:55 -0400 (Tue, 01 Apr 2025) EllapsedTime: 88.2 seconds RetCode: 0 Status: OK PackageFile: curatedCRCData_2.38.0.tar.gz PackageFileSize: 398.8 MiB