Package: curatedBreastData Version: 2.34.0 Command: /home/biocbuild/bbs-3.20-bioc/R/bin/R CMD INSTALL curatedBreastData StartedAt: 2025-04-01 10:57:41 -0400 (Tue, 01 Apr 2025) EndedAt: 2025-04-01 10:57:47 -0400 (Tue, 01 Apr 2025) EllapsedTime: 5.8 seconds RetCode: 0 Status: OK