Package: curatedBreastData Version: 2.34.0 Command: /home/biocbuild/bbs-3.20-bioc/R/bin/R CMD check --install=check:curatedBreastData.install-out.txt --library=/home/biocbuild/bbs-3.20-bioc/R/site-library --timings curatedBreastData_2.34.0.tar.gz StartedAt: 2025-04-01 11:50:54 -0400 (Tue, 01 Apr 2025) EndedAt: 2025-04-01 11:57:44 -0400 (Tue, 01 Apr 2025) EllapsedTime: 410.3 seconds RetCode: 0 Status: OK CheckDir: curatedBreastData.Rcheck Warnings: 0