Package: curatedBladderData Version: 1.42.0 Command: /home/biocbuild/bbs-3.20-bioc/R/bin/R CMD check --install=check:curatedBladderData.install-out.txt --library=/home/biocbuild/bbs-3.20-bioc/R/site-library --timings curatedBladderData_1.42.0.tar.gz StartedAt: 2025-04-01 11:50:42 -0400 (Tue, 01 Apr 2025) EndedAt: 2025-04-01 11:51:44 -0400 (Tue, 01 Apr 2025) EllapsedTime: 62.4 seconds RetCode: 0 Status: OK CheckDir: curatedBladderData.Rcheck Warnings: 0