Package: chromstaRData Version: 1.32.0 Command: /home/biocbuild/bbs-3.20-bioc/R/bin/R CMD check --install=check:chromstaRData.install-out.txt --library=/home/biocbuild/bbs-3.20-bioc/R/site-library --timings chromstaRData_1.32.0.tar.gz StartedAt: 2025-04-01 11:47:46 -0400 (Tue, 01 Apr 2025) EndedAt: 2025-04-01 11:48:04 -0400 (Tue, 01 Apr 2025) EllapsedTime: 18.0 seconds RetCode: 0 Status: WARNINGS CheckDir: chromstaRData.Rcheck Warnings: 1