Package: chromstaRData Version: 1.32.0 Command: /home/biocbuild/bbs-3.20-bioc/R/bin/R CMD build --keep-empty-dirs --no-resave-data chromstaRData StartedAt: 2025-04-01 11:08:18 -0400 (Tue, 01 Apr 2025) EndedAt: 2025-04-01 11:08:28 -0400 (Tue, 01 Apr 2025) EllapsedTime: 10.0 seconds RetCode: 0 Status: OK PackageFile: chromstaRData_1.32.0.tar.gz PackageFileSize: 140.2 MiB