Package: biotmleData Version: 1.30.0 Command: /home/biocbuild/bbs-3.20-bioc/R/bin/R CMD INSTALL biotmleData StartedAt: 2025-04-01 10:55:16 -0400 (Tue, 01 Apr 2025) EndedAt: 2025-04-01 10:55:34 -0400 (Tue, 01 Apr 2025) EllapsedTime: 17.1 seconds RetCode: 0 Status: OK