Package: VariantToolsData Version: 1.30.0 Command: /home/biocbuild/bbs-3.20-bioc/R/bin/R CMD INSTALL VariantToolsData StartedAt: 2025-04-01 11:04:31 -0400 (Tue, 01 Apr 2025) EndedAt: 2025-04-01 11:05:08 -0400 (Tue, 01 Apr 2025) EllapsedTime: 36.5 seconds RetCode: 0 Status: OK