Package: VariantToolsData Version: 1.30.0 Command: /home/biocbuild/bbs-3.20-bioc/R/bin/R CMD build --keep-empty-dirs --no-resave-data VariantToolsData StartedAt: 2025-04-01 11:40:03 -0400 (Tue, 01 Apr 2025) EndedAt: 2025-04-01 11:40:55 -0400 (Tue, 01 Apr 2025) EllapsedTime: 52.0 seconds RetCode: 0 Status: OK PackageFile: VariantToolsData_1.30.0.tar.gz PackageFileSize: 200.7 MiB