Package: TumourMethData Version: 1.4.0 Command: /home/biocbuild/bbs-3.20-bioc/R/bin/R CMD INSTALL TumourMethData StartedAt: 2025-04-01 11:04:13 -0400 (Tue, 01 Apr 2025) EndedAt: 2025-04-01 11:04:42 -0400 (Tue, 01 Apr 2025) EllapsedTime: 28.7 seconds RetCode: 0 Status: OK