Package: TumourMethData Version: 1.4.0 Command: /home/biocbuild/bbs-3.20-bioc/R/bin/R CMD check --install=check:TumourMethData.install-out.txt --library=/home/biocbuild/bbs-3.20-bioc/R/site-library --timings TumourMethData_1.4.0.tar.gz StartedAt: 2025-04-01 12:46:33 -0400 (Tue, 01 Apr 2025) EndedAt: 2025-04-01 12:49:39 -0400 (Tue, 01 Apr 2025) EllapsedTime: 185.1 seconds RetCode: 0 Status: WARNINGS CheckDir: TumourMethData.Rcheck Warnings: 1