Package: TimerQuant Version: 1.36.0 Command: /home/biocbuild/bbs-3.20-bioc/R/bin/R CMD INSTALL TimerQuant StartedAt: 2025-04-01 10:56:25 -0400 (Tue, 01 Apr 2025) EndedAt: 2025-04-01 10:56:29 -0400 (Tue, 01 Apr 2025) EllapsedTime: 4.1 seconds RetCode: 0 Status: OK