Package: TimerQuant Version: 1.36.0 Command: /home/biocbuild/bbs-3.20-bioc/R/bin/R CMD build --keep-empty-dirs --no-resave-data TimerQuant StartedAt: 2025-04-01 11:38:59 -0400 (Tue, 01 Apr 2025) EndedAt: 2025-04-01 11:39:51 -0400 (Tue, 01 Apr 2025) EllapsedTime: 51.9 seconds RetCode: 0 Status: OK PackageFile: TimerQuant_1.36.0.tar.gz PackageFileSize: 1.747 MiB