Package: TargetSearchData Version: 1.44.0 Command: /home/biocbuild/bbs-3.20-bioc/R/bin/R CMD check --install=check:TargetSearchData.install-out.txt --library=/home/biocbuild/bbs-3.20-bioc/R/site-library --timings TargetSearchData_1.44.0.tar.gz StartedAt: 2025-04-01 12:40:57 -0400 (Tue, 01 Apr 2025) EndedAt: 2025-04-01 12:41:16 -0400 (Tue, 01 Apr 2025) EllapsedTime: 19.0 seconds RetCode: 0 Status: OK CheckDir: TargetSearchData.Rcheck Warnings: 0