Package: TargetSearchData Version: 1.44.0 Command: /home/biocbuild/bbs-3.20-bioc/R/bin/R CMD build --keep-empty-dirs --no-resave-data TargetSearchData StartedAt: 2025-04-01 11:37:48 -0400 (Tue, 01 Apr 2025) EndedAt: 2025-04-01 11:38:16 -0400 (Tue, 01 Apr 2025) EllapsedTime: 28.1 seconds RetCode: 0 Status: OK PackageFile: TargetSearchData_1.44.0.tar.gz PackageFileSize: 29.86 MiB