Package: TabulaMurisSenisData Version: 1.12.0 Command: /home/biocbuild/bbs-3.20-bioc/R/bin/R CMD INSTALL TabulaMurisSenisData StartedAt: 2025-04-01 11:00:45 -0400 (Tue, 01 Apr 2025) EndedAt: 2025-04-01 11:01:14 -0400 (Tue, 01 Apr 2025) EllapsedTime: 29.0 seconds RetCode: 0 Status: OK