Package: TabulaMurisSenisData Version: 1.12.0 Command: /home/biocbuild/bbs-3.20-bioc/R/bin/R CMD check --install=check:TabulaMurisSenisData.install-out.txt --library=/home/biocbuild/bbs-3.20-bioc/R/site-library --timings TabulaMurisSenisData_1.12.0.tar.gz StartedAt: 2025-04-01 12:40:14 -0400 (Tue, 01 Apr 2025) EndedAt: 2025-04-01 12:45:14 -0400 (Tue, 01 Apr 2025) EllapsedTime: 300.2 seconds RetCode: 0 Status: OK CheckDir: TabulaMurisSenisData.Rcheck Warnings: 0