Package: TabulaMurisSenisData Version: 1.12.0 Command: /home/biocbuild/bbs-3.20-bioc/R/bin/R CMD build --keep-empty-dirs --no-resave-data TabulaMurisSenisData StartedAt: 2025-04-01 11:37:34 -0400 (Tue, 01 Apr 2025) EndedAt: 2025-04-01 11:39:06 -0400 (Tue, 01 Apr 2025) EllapsedTime: 92.6 seconds RetCode: 0 Status: OK PackageFile: TabulaMurisSenisData_1.12.0.tar.gz PackageFileSize: 2.502 MiB