Package: TENxPBMCData Version: 1.24.0 Command: /home/biocbuild/bbs-3.20-bioc/R/bin/R CMD INSTALL TENxPBMCData StartedAt: 2025-04-01 10:59:37 -0400 (Tue, 01 Apr 2025) EndedAt: 2025-04-01 11:00:04 -0400 (Tue, 01 Apr 2025) EllapsedTime: 27.8 seconds RetCode: 0 Status: OK