Package: TENxPBMCData Version: 1.24.0 Command: /home/biocbuild/bbs-3.20-bioc/R/bin/R CMD check --install=check:TENxPBMCData.install-out.txt --library=/home/biocbuild/bbs-3.20-bioc/R/site-library --timings TENxPBMCData_1.24.0.tar.gz StartedAt: 2025-04-01 12:42:59 -0400 (Tue, 01 Apr 2025) EndedAt: 2025-04-01 12:46:33 -0400 (Tue, 01 Apr 2025) EllapsedTime: 214.2 seconds RetCode: 0 Status: OK CheckDir: TENxPBMCData.Rcheck Warnings: 0