Package: TENxPBMCData Version: 1.24.0 Command: /home/biocbuild/bbs-3.20-bioc/R/bin/R CMD build --keep-empty-dirs --no-resave-data TENxPBMCData StartedAt: 2025-04-01 11:38:32 -0400 (Tue, 01 Apr 2025) EndedAt: 2025-04-01 11:39:20 -0400 (Tue, 01 Apr 2025) EllapsedTime: 48.5 seconds RetCode: 0 Status: OK PackageFile: TENxPBMCData_1.24.0.tar.gz PackageFileSize: 299.6 KiB